BEGIN:VCALENDAR
VERSION:2.0
PRODID:Fort Bend County, TX Calendar Creator
METHOD:PUBLISH
BEGIN:VEVENT
DTSTAMP:20250703T111436
DTSTART:20250726T120000
DTEND:20250726T040000
SUMMARY:Movie Night Outdoors
DESCRIPTION:<h3 class="style-heading3 text-align-center">Fort Bend County Parks in Celebration of National Parks &amp; Recreation Month Presents</h3>

<h2 class="style-heading2 text-align-center">Movie Night Ou
CLASS:PUBLIC
END:VEVENT
END:VCALENDAR
